{"text_format":"1","workbook":"xlsx","n_sheets":3,"sheets":["Disclaimer","Chart","data"],"not_rendered":{"charts":1,"images":0,"macros":1,"external_links":1,"defined_names":8,"comments":0,"pivot_tables":0},"unopened":[],"bounds":{"document_bytes":16777216,"sheet_cells":100000,"rows_first":2000,"rows_last":500,"rows_between":2000,"halvings":0,"cell_chars":16384,"cell_head_chars":4096},"cells_cut":0,"cells_raw":0,"read":"whole","date_system":"1900"}

{"sheet":"Disclaimer","index":0,"n_rows":2,"n_cols":2,"rows_kept":2,"cut":false,"hidden":false,"merged":[[1,1,15,3]]}
[]
[null,"Copyright © 2019 Saxo Bank A/S\n\nLicensed under the Apache License, Version 2.0 (the \"License\");\nYou may not use this file except in compliance with the License.\nYou may obtain a copy of the License at\n\nhttp://www.apache.org/licenses/LICENSE-2.0\n\nUnless required by applicable law or agreed to in writing, software\ndistributed under the License is distributed on an \"AS IS\" BASIS,\nWITHOUT WARRANTIES OR CONDITIONS OF ANY KIND, either express or implied.\nSee the License for the specific language governing permissions and limitations under the License."]

{"sheet":"Chart","index":1,"n_rows":11,"n_cols":2,"rows_kept":11,"cut":false,"hidden":false,"merged":[[0,0,0,2]]}
["OpenAPI Live Chart"]
[]
["UIC (Stock only)",21]
["AssetType","FxSpot"]
["Symbol",{"$f":"_xll.OpenAPIGet(\"/openapi/ref/v1/instruments/details/?Uics=\"&Uic&\"&AssetTypes=\"&AssetType&\"&FieldGroups=\",\"Symbol\")","v":"EURUSD"}]
["Horizon (min)",1]
["Datapoints (5-100)",60]
[]
["Bollinger Bands"]
["Look-back window",20]
["Std. deviations",2]

{"sheet":"data","index":2,"n_rows":61,"n_cols":16,"rows_kept":61,"cut":false,"hidden":false,"merged":[]}
["Time (UTC)","Open","High","Low","Close","Current","SMA-20","B-high","B-low","STD-20",null,"Time (UTC)","Open","High","Low","Close"]
["14/05/2019 06:47:00",1.12385,1.12385,1.1237999999999999,1.1237999999999999,{"$f":"$E$61","v":1.1231},null,null,null,null,null,"14/05/2019 07:46:00",1.1231,1.1231500000000001,1.1230500000000001,1.1231]
["14/05/2019 06:48:00",1.12385,1.1238999999999999,1.1237999999999999,1.1237999999999999,1.1231]
["14/05/2019 06:49:00",1.1237999999999999,1.12395,1.1237999999999999,1.12395,1.1231]
["14/05/2019 06:50:00",1.1240000000000001,1.12405,1.12395,1.12405,1.1231]
["14/05/2019 06:51:00",1.12405,1.12405,1.12395,1.1240000000000001,1.1231]
["14/05/2019 06:52:00",1.1240000000000001,1.12415,1.1240000000000001,1.1241000000000001,1.1231]
["14/05/2019 06:53:00",1.1241000000000001,1.1241000000000001,1.1240000000000001,1.1240000000000001,1.1231]
["14/05/2019 06:54:00",1.1240000000000001,1.12405,1.1238999999999999,1.1238999999999999,1.1231]
["14/05/2019 06:55:00",1.12385,1.12385,1.1237999999999999,1.12385,1.1231]
["14/05/2019 06:56:00",1.12385,1.12385,1.12375,1.12375,1.1231]
["14/05/2019 06:57:00",1.1236999999999999,1.12375,1.12355,1.12355,1.1231]
["14/05/2019 06:58:00",1.1234999999999999,1.1234999999999999,1.1232,1.1233,1.1231]
["14/05/2019 06:59:00",1.1232500000000001,1.1233,1.1232,1.1233,1.1231]
["14/05/2019 07:00:00",1.1233,1.1233500000000001,1.1232,1.1233,1.1231]
["14/05/2019 07:01:00",1.1232500000000001,1.1232500000000001,1.1229,1.1229,1.1231]
["14/05/2019 07:02:00",1.1229499999999999,1.1230500000000001,1.1229499999999999,1.1230500000000001,1.1231]
["14/05/2019 07:03:00",1.123,1.1232,1.123,1.1232,1.1231]
["14/05/2019 07:04:00",1.1232,1.1234,1.1232,1.1234,1.1231]
["14/05/2019 07:05:00",1.1234500000000001,1.1234500000000001,1.1233500000000001,1.1233500000000001,1.1231]
["14/05/2019 07:06:00",1.1234,1.1234,1.1233500000000001,1.1233500000000001,1.1231,{"$f":"AVERAGE(E2:E21)","v":1.1235950000000001},{"$f":"G21+multiplier*data!J21","v":1.1243076710321041},{"$f":"G21-multiplier*data!J21","v":1.1228823289678962},{"$f":"_xlfn.STDEV.P(E2:E21)","v":3.5633551605194054E-4}]
["14/05/2019 07:07:00",1.1233500000000001,1.12355,1.1233500000000001,1.1234999999999999,1.1231,{"$f":"AVERAGE(E3:E22)","v":1.12358},{"$f":"G22+multiplier*data!J22","v":1.1242873895673531},{"$f":"G22-multiplier*data!J22","v":1.122872610432647},{"$f":"_xlfn.STDEV.P(E3:E22)","v":3.5369478367655572E-4}]
["14/05/2019 07:08:00",1.12355,1.1236999999999999,1.1234999999999999,1.1236999999999999,1.1231,1.123575,{"$f":"G23+multiplier*data!J23","v":1.1242774955515873},{"$f":"G23-multiplier*data!J23","v":1.1228725044484127},3.5124777579367914E-4]
["14/05/2019 07:09:00",1.12365,1.1236999999999999,1.1234999999999999,1.12355,1.1231,1.1235550000000001,{"$f":"G24+multiplier*data!J24","v":1.1242361020481544},{"$f":"G24-multiplier*data!J24","v":1.1228738979518458},3.4055102407716672E-4]
["14/05/2019 07:10:00",1.1234999999999999,1.12355,1.1234999999999999,1.1234999999999999,1.1231,1.1235275,{"$f":"G25+multiplier*data!J25","v":1.1241697421661647},{"$f":"G25-multiplier*data!J25","v":1.1228852578338353},3.2112108308239166E-4]
["14/05/2019 07:11:00",1.1234500000000001,1.1234999999999999,1.1234500000000001,1.1234500000000001,1.1231,1.1235000000000004,{"$f":"G26+multiplier*data!J26","v":1.1241049793384905},{"$f":"G26-multiplier*data!J26","v":1.1228950206615103},3.0248966924508862E-4]
["14/05/2019 07:12:00",1.1234999999999999,1.12355,1.1234500000000001,1.1234999999999999,1.1231,1.12347,{"$f":"G27+multiplier*data!J27","v":1.1240088877434122},{"$f":"G27-multiplier*data!J27","v":1.1229311122565877},2.6944387170614462E-4]
["14/05/2019 07:13:00",1.12355,1.12365,1.12355,1.1235999999999999,1.1231,1.1234500000000003,{"$f":"G28+multiplier*data!J28","v":1.1239357983120599},{"$f":"G28-multiplier*data!J28","v":1.1229642016879406},2.4289915602980247E-4]
["14/05/2019 07:14:00",1.12365,1.12385,1.12365,1.1237999999999999,1.1231,1.1234450000000002,{"$f":"G29+multiplier*data!J29","v":1.1239139349635079},{"$f":"G29-multiplier*data!J29","v":1.1229760650364926},2.3446748175384933E-4]
["14/05/2019 07:15:00",1.12385,1.12405,1.12385,1.12405,1.1231,1.1234550000000001,{"$f":"G30+multiplier*data!J30","v":1.1239648038838612},{"$f":"G30-multiplier*data!J30","v":1.122945196116139},2.5490194193059963E-4]
["14/05/2019 07:16:00",1.12405,1.12405,1.1238999999999999,1.1238999999999999,1.1231,1.1234625,{"$f":"G31+multiplier*data!J31","v":1.1239934190145398},{"$f":"G31-multiplier*data!J31","v":1.1229315809854603},2.654595072699144E-4]
["14/05/2019 07:17:00",1.12385,1.1240000000000001,1.12385,1.12395,1.1231,1.1234824999999999,{"$f":"G32+multiplier*data!J32","v":1.1240537048669259},{"$f":"G32-multiplier*data!J32","v":1.122911295133074},2.8560243346299795E-4]
["14/05/2019 07:18:00",1.1238999999999999,1.1241000000000001,1.1238999999999999,1.1241000000000001,1.1231,1.1235224999999998,{"$f":"G33+multiplier*data!J33","v":1.1241465793218812},{"$f":"G33-multiplier*data!J33","v":1.1228984206781183},3.1203966094070859E-4]
["14/05/2019 07:19:00",1.1241000000000001,1.1241000000000001,1.1240000000000001,1.1240000000000001,1.1231,1.1235575,{"$f":"G34+multiplier*data!J34","v":1.1242057862022286},{"$f":"G34-multiplier*data!J34","v":1.1229092137977714},3.2414310111430258E-4]
["14/05/2019 07:20:00",1.12405,1.1242000000000001,1.1240000000000001,1.1242000000000001,1.1231,1.1236024999999998,{"$f":"G35+multiplier*data!J35","v":1.1242963839960682},{"$f":"G35-multiplier*data!J35","v":1.1229086160039314},3.4694199803425569E-4]
["14/05/2019 07:21:00",1.1242000000000001,1.1242000000000001,1.12395,1.1240000000000001,1.1231,1.1236574999999998,{"$f":"G36+multiplier*data!J36","v":1.1242917515273925},{"$f":"G36-multiplier*data!J36","v":1.123023248472607},3.1712576369636935E-4]
["14/05/2019 07:22:00",1.12395,1.12415,1.12395,1.1241000000000001,1.1231,1.1237099999999995,{"$f":"G37+multiplier*data!J37","v":1.1243071599450729},{"$f":"G37-multiplier*data!J37","v":1.1231128400549262},2.9857997253669781E-4]
["14/05/2019 07:23:00",1.1241000000000001,1.1241000000000001,1.1240000000000001,1.12405,1.1231,1.1237524999999997,{"$f":"G38+multiplier*data!J38","v":1.124318605113914},{"$f":"G38-multiplier*data!J38","v":1.1231863948860854},2.8305255695720708E-4]
["14/05/2019 07:24:00",1.1240000000000001,1.1240000000000001,1.12395,1.1240000000000001,1.1231,1.1237824999999999,{"$f":"G39+multiplier*data!J39","v":1.1243341112761718},{"$f":"G39-multiplier*data!J39","v":1.123230888723828},2.7580563808597713E-4]
["14/05/2019 07:25:00",1.1240000000000001,1.1240000000000001,1.12395,1.12395,1.1231,1.1238124999999999,{"$f":"G40+multiplier*data!J40","v":1.1243310315805233},{"$f":"G40-multiplier*data!J40","v":1.1232939684194765},2.5926579026168363E-4]
["14/05/2019 07:26:00",1.1238999999999999,1.1238999999999999,1.1238999999999999,1.1238999999999999,1.1231,1.12384,{"$f":"G41+multiplier*data!J41","v":1.124313919824443},{"$f":"G41-multiplier*data!J41","v":1.1233660801755569},2.3695991222149243E-4]
["14/05/2019 07:27:00",1.1238999999999999,1.1238999999999999,1.12385,1.12385,1.1231,1.1238575000000002,{"$f":"G42+multiplier*data!J42","v":1.1243050209492305},{"$f":"G42-multiplier*data!J42","v":1.1234099790507699},2.2376047461519012E-4]
["14/05/2019 07:28:00",1.12385,1.12385,1.12385,1.12385,1.1231,1.1238649999999999,{"$f":"G43+multiplier*data!J43","v":1.1243067012565071},{"$f":"G43-multiplier*data!J43","v":1.1234232987434927},2.2085062825360875E-4]
["14/05/2019 07:29:00",1.1237999999999999,1.1237999999999999,1.1236999999999999,1.12375,1.1231,1.1238750000000002,{"$f":"G44+multiplier*data!J44","v":1.1242963074886592},{"$f":"G44-multiplier*data!J44","v":1.1234536925113412},2.1065374432944375E-4]
["14/05/2019 07:30:00",1.12375,1.1237999999999999,1.12375,1.12375,1.1231,1.1238875000000002,{"$f":"G45+multiplier*data!J45","v":1.1242772114317032},{"$f":"G45-multiplier*data!J45","v":1.1234977885682971},1.9485571585152887E-4]
["14/05/2019 07:31:00",1.12375,1.12375,1.12355,1.1235999999999999,1.1231,1.1238950000000003,{"$f":"G46+multiplier*data!J46","v":1.1242554164258192},{"$f":"G46-multiplier*data!J46","v":1.1235345835741815},1.8020821290944586E-4]
["14/05/2019 07:32:00",1.1235999999999999,1.12375,1.1234999999999999,1.1236999999999999,1.1231,1.1239050000000002,{"$f":"G47+multiplier*data!J47","v":1.1242304228019058},{"$f":"G47-multiplier*data!J47","v":1.1235795771980945},1.6271140095277668E-4]
["14/05/2019 07:33:00",1.1236999999999999,1.1236999999999999,1.1234999999999999,1.1235999999999999,1.1231,1.1239050000000002,{"$f":"G48+multiplier*data!J48","v":1.1242304228019058},{"$f":"G48-multiplier*data!J48","v":1.1235795771980945},1.6271140095277668E-4]
["14/05/2019 07:34:00",1.12365,1.12365,1.1234,1.1234999999999999,1.1231,1.1238900000000003,{"$f":"G49+multiplier*data!J49","v":1.1242582390527909},{"$f":"G49-multiplier*data!J49","v":1.1235217609472097},1.8411952639526576E-4]
["14/05/2019 07:35:00",1.1234999999999999,1.1235999999999999,1.1234500000000001,1.1235999999999999,1.1231,1.1238675,{"$f":"G50+multiplier*data!J50","v":1.1242486495769382},{"$f":"G50-multiplier*data!J50","v":1.1234863504230619},1.9057478846904016E-4]
["14/05/2019 07:36:00",1.12355,1.12355,1.1234500000000001,1.1234500000000001,1.1231,1.123845,{"$f":"G51+multiplier*data!J51","v":1.1242667819341794},{"$f":"G51-multiplier*data!J51","v":1.1234232180658206},2.10890967089674E-4]
["14/05/2019 07:37:00",1.1234500000000001,1.1234999999999999,1.1234,1.1234,1.1231,1.1238174999999999,{"$f":"G52+multiplier*data!J52","v":1.1242782331114647},{"$f":"G52-multiplier*data!J52","v":1.1233567668885351},2.3036655573242551E-4]
["14/05/2019 07:38:00",1.1234,1.1234999999999999,1.1233,1.1234,1.1231,1.1237825000000001,{"$f":"G53+multiplier*data!J53","v":1.124258183718452},{"$f":"G53-multiplier*data!J53","v":1.1233068162815483},2.3784185922587359E-4]
["14/05/2019 07:39:00",1.1233500000000001,1.1234500000000001,1.1233,1.1233,1.1231,1.1237474999999999,{"$f":"G54+multiplier*data!J54","v":1.1242559043666216},{"$f":"G54-multiplier*data!J54","v":1.1232390956333782},2.5420218331088245E-4]
["14/05/2019 07:40:00",1.1233,1.1233,1.1231500000000001,1.1232500000000001,1.1231,1.1236999999999999,{"$f":"G55+multiplier*data!J55","v":1.1242079370039679},{"$f":"G55-multiplier*data!J55","v":1.1231920629960319},2.5396850198402822E-4]
["14/05/2019 07:41:00",1.1232500000000001,1.1232500000000001,1.1232,1.1232,1.1231,1.1236599999999999,{"$f":"G56+multiplier*data!J56","v":1.1241925410782276},{"$f":"G56-multiplier*data!J56","v":1.1231274589217721},2.6627053911390308E-4]
["14/05/2019 07:42:00",1.1232,1.1232500000000001,1.1231,1.1232,1.1231,1.1236149999999998,{"$f":"G57+multiplier*data!J57","v":1.1241432991576747},{"$f":"G57-multiplier*data!J57","v":1.1230867008423249},2.6414957883745348E-4]
["14/05/2019 07:43:00",1.1232,1.1232500000000001,1.1231,1.1231500000000001,1.1231,1.12357,{"$f":"G58+multiplier*data!J58","v":1.1240957375771237},{"$f":"G58-multiplier*data!J58","v":1.1230442624228762},2.6286878856189686E-4]
["14/05/2019 07:44:00",1.1232,1.1232500000000001,1.1232,1.1232500000000001,1.1231,1.1235324999999998,{"$f":"G59+multiplier*data!J59","v":1.1240367568789811},{"$f":"G59-multiplier*data!J59","v":1.1230282431210186},2.521284394906514E-4]
["14/05/2019 07:45:00",1.1232,1.1232500000000001,1.1231500000000001,1.1231500000000001,1.1231,1.1234924999999998,{"$f":"G60+multiplier*data!J60","v":1.1239847143841861},{"$f":"G60-multiplier*data!J60","v":1.1230002856158134},2.4610719209317488E-4]
["14/05/2019 07:46:00",1.1231,1.1231500000000001,1.1230500000000001,1.1231,{"$f":"$E$61","v":1.1231},1.1234525,{"$f":"G61+multiplier*data!J61","v":1.12393569250822},{"$f":"G61-multiplier*data!J61","v":1.1229693074917799},2.4159625411001581E-4]